Package: curatedTCGAData Version: 1.33.0 Command: /home/biocbuild/bbs-3.23-bioc/R/bin/R CMD check --install=check:curatedTCGAData.install-out.txt --library=/home/biocbuild/bbs-3.23-bioc/R/site-library --timings curatedTCGAData_1.33.0.tar.gz StartedAt: 2025-10-30 12:04:53 -0400 (Thu, 30 Oct 2025) EndedAt: 2025-10-30 12:09:00 -0400 (Thu, 30 Oct 2025) EllapsedTime: 246.7 seconds RetCode: 0 Status: OK CheckDir: curatedTCGAData.Rcheck Warnings: 0