Package: curatedTCGAData Version: 1.33.0 Command: /home/biocbuild/bbs-3.23-bioc/R/bin/R CMD build --keep-empty-dirs --no-resave-data curatedTCGAData StartedAt: 2025-10-30 11:11:33 -0400 (Thu, 30 Oct 2025) EndedAt: 2025-10-30 11:12:46 -0400 (Thu, 30 Oct 2025) EllapsedTime: 73.9 seconds RetCode: 0 Status: OK PackageFile: curatedTCGAData_1.33.0.tar.gz PackageFileSize: 417.1 KiB