Package: curatedTBData Version: 2.7.0 Command: /home/biocbuild/bbs-3.23-bioc/R/bin/R CMD check --install=check:curatedTBData.install-out.txt --library=/home/biocbuild/bbs-3.23-bioc/R/site-library --timings curatedTBData_2.7.0.tar.gz StartedAt: 2025-11-06 12:10:18 -0500 (Thu, 06 Nov 2025) EndedAt: 2025-11-06 12:16:44 -0500 (Thu, 06 Nov 2025) EllapsedTime: 385.5 seconds RetCode: 0 Status: WARNINGS CheckDir: curatedTBData.Rcheck Warnings: 2