Package: curatedPCaData Version: 1.7.0 Command: /home/biocbuild/bbs-3.23-bioc/R/bin/R CMD check --install=check:curatedPCaData.install-out.txt --library=/home/biocbuild/bbs-3.23-bioc/R/site-library --timings curatedPCaData_1.7.0.tar.gz StartedAt: 2025-10-30 12:04:39 -0400 (Thu, 30 Oct 2025) EndedAt: 2025-10-30 12:28:00 -0400 (Thu, 30 Oct 2025) EllapsedTime: 1401.0 seconds RetCode: 0 Status: OK CheckDir: curatedPCaData.Rcheck Warnings: 0