Package: curatedPCaData Version: 1.7.0 Command: /home/biocbuild/bbs-3.23-bioc/R/bin/R CMD build --keep-empty-dirs --no-resave-data curatedPCaData StartedAt: 2025-10-30 11:11:16 -0400 (Thu, 30 Oct 2025) EndedAt: 2025-10-30 11:17:21 -0400 (Thu, 30 Oct 2025) EllapsedTime: 365.4 seconds RetCode: 0 Status: OK PackageFile: curatedPCaData_1.7.0.tar.gz PackageFileSize: 2.936 MiB