Package: curatedBreastData Version: 2.37.0 Command: /home/biocbuild/bbs-3.22-bioc/R/bin/R CMD INSTALL curatedBreastData StartedAt: 2025-09-30 10:57:53 -0400 (Tue, 30 Sep 2025) EndedAt: 2025-09-30 10:58:00 -0400 (Tue, 30 Sep 2025) EllapsedTime: 7.2 seconds RetCode: 0 Status: OK