Package: curatedBreastData Version: 2.37.0 Command: /home/biocbuild/bbs-3.22-bioc/R/bin/R CMD build --keep-empty-dirs --no-resave-data curatedBreastData StartedAt: 2025-09-30 11:11:29 -0400 (Tue, 30 Sep 2025) EndedAt: 2025-09-30 11:13:08 -0400 (Tue, 30 Sep 2025) EllapsedTime: 99.4 seconds RetCode: 0 Status: OK PackageFile: curatedBreastData_2.37.0.tar.gz PackageFileSize: 283.1 MiB