Package: curatedBreastData Version: 2.39.0 Command: /home/biocbuild/bbs-3.23-bioc/R/bin/R CMD check --install=check:curatedBreastData.install-out.txt --library=/home/biocbuild/bbs-3.23-bioc/R/site-library --timings curatedBreastData_2.39.0.tar.gz StartedAt: 2025-10-30 12:03:40 -0400 (Thu, 30 Oct 2025) EndedAt: 2025-10-30 12:10:48 -0400 (Thu, 30 Oct 2025) EllapsedTime: 428.5 seconds RetCode: 0 Status: OK CheckDir: curatedBreastData.Rcheck Warnings: 0