Package: curatedBreastData Version: 2.39.0 Command: /home/biocbuild/bbs-3.23-bioc/R/bin/R CMD build --keep-empty-dirs --no-resave-data curatedBreastData StartedAt: 2025-10-30 11:10:50 -0400 (Thu, 30 Oct 2025) EndedAt: 2025-10-30 11:12:30 -0400 (Thu, 30 Oct 2025) EllapsedTime: 100.1 seconds RetCode: 0 Status: OK PackageFile: curatedBreastData_2.39.0.tar.gz PackageFileSize: 283.1 MiB