Package: curatedBladderData Version: 1.47.0 Command: /home/biocbuild/bbs-3.23-bioc/R/bin/R CMD check --install=check:curatedBladderData.install-out.txt --library=/home/biocbuild/bbs-3.23-bioc/R/site-library --timings curatedBladderData_1.47.0.tar.gz StartedAt: 2025-11-04 12:10:09 -0500 (Tue, 04 Nov 2025) EndedAt: 2025-11-04 12:11:13 -0500 (Tue, 04 Nov 2025) EllapsedTime: 64.6 seconds RetCode: 0 Status: OK CheckDir: curatedBladderData.Rcheck Warnings: 0