Package: curatedAdipoRNA Version: 1.27.0 Command: /home/biocbuild/bbs-3.23-bioc/R/bin/R CMD INSTALL curatedAdipoRNA StartedAt: 2025-10-30 11:01:44 -0400 (Thu, 30 Oct 2025) EndedAt: 2025-10-30 11:02:05 -0400 (Thu, 30 Oct 2025) EllapsedTime: 20.9 seconds RetCode: 0 Status: OK