Package: curatedAdipoRNA Version: 1.27.0 Command: /home/biocbuild/bbs-3.23-bioc/R/bin/R CMD check --install=check:curatedAdipoRNA.install-out.txt --library=/home/biocbuild/bbs-3.23-bioc/R/site-library --timings curatedAdipoRNA_1.27.0.tar.gz StartedAt: 2025-10-30 12:03:27 -0400 (Thu, 30 Oct 2025) EndedAt: 2025-10-30 12:05:48 -0400 (Thu, 30 Oct 2025) EllapsedTime: 140.5 seconds RetCode: 0 Status: WARNINGS CheckDir: curatedAdipoRNA.Rcheck Warnings: 1