Package: curatedAdipoRNA Version: 1.27.0 Command: /home/biocbuild/bbs-3.23-bioc/R/bin/R CMD build --keep-empty-dirs --no-resave-data curatedAdipoRNA StartedAt: 2025-10-30 11:10:38 -0400 (Thu, 30 Oct 2025) EndedAt: 2025-10-30 11:12:06 -0400 (Thu, 30 Oct 2025) EllapsedTime: 87.3 seconds RetCode: 0 Status: OK PackageFile: curatedAdipoRNA_1.27.0.tar.gz PackageFileSize: 5.548 MiB