Package: curatedAdipoArray Version: 1.23.0 Command: /home/biocbuild/bbs-3.23-bioc/R/bin/R CMD build --keep-empty-dirs --no-resave-data curatedAdipoArray StartedAt: 2025-11-20 11:11:49 -0500 (Thu, 20 Nov 2025) EndedAt: 2025-11-20 11:12:06 -0500 (Thu, 20 Nov 2025) EllapsedTime: 16.6 seconds RetCode: 0 Status: OK PackageFile: curatedAdipoArray_1.23.0.tar.gz PackageFileSize: 36.28 KiB