Package: clustifyrdatahub Version: 1.21.0 Command: /home/biocbuild/bbs-3.23-bioc/R/bin/R CMD build --keep-empty-dirs --no-resave-data clustifyrdatahub StartedAt: 2025-11-20 11:10:36 -0500 (Thu, 20 Nov 2025) EndedAt: 2025-11-20 11:11:14 -0500 (Thu, 20 Nov 2025) EllapsedTime: 38.3 seconds RetCode: 0 Status: OK PackageFile: clustifyrdatahub_1.21.0.tar.gz PackageFileSize: 299.9 KiB