Package: chipseqDBData Version: 1.27.0 Command: /home/biocbuild/bbs-3.23-bioc/R/bin/R CMD check --install=check:chipseqDBData.install-out.txt --library=/home/biocbuild/bbs-3.23-bioc/R/site-library --timings chipseqDBData_1.27.0.tar.gz StartedAt: 2025-10-30 12:01:00 -0400 (Thu, 30 Oct 2025) EndedAt: 2025-10-30 12:03:43 -0400 (Thu, 30 Oct 2025) EllapsedTime: 162.9 seconds RetCode: 0 Status: OK CheckDir: chipseqDBData.Rcheck Warnings: 0