Package: chipseqDBData Version: 1.27.0 Command: /home/biocbuild/bbs-3.23-bioc/R/bin/R CMD build --keep-empty-dirs --no-resave-data chipseqDBData StartedAt: 2025-10-30 11:09:20 -0400 (Thu, 30 Oct 2025) EndedAt: 2025-10-30 11:10:28 -0400 (Thu, 30 Oct 2025) EllapsedTime: 67.7 seconds RetCode: 0 Status: OK PackageFile: chipseqDBData_1.27.0.tar.gz PackageFileSize: 300.8 KiB