Package: cfToolsData Version: 1.9.0 Command: /home/biocbuild/bbs-3.23-bioc/R/bin/R CMD check --install=check:cfToolsData.install-out.txt --library=/home/biocbuild/bbs-3.23-bioc/R/site-library --timings cfToolsData_1.9.0.tar.gz StartedAt: 2025-11-06 12:04:50 -0500 (Thu, 06 Nov 2025) EndedAt: 2025-11-06 12:06:58 -0500 (Thu, 06 Nov 2025) EllapsedTime: 128.5 seconds RetCode: 0 Status: OK CheckDir: cfToolsData.Rcheck Warnings: 0