Package: celldex Version: 1.21.0 Command: /home/biocbuild/bbs-3.23-bioc/R/bin/R CMD INSTALL celldex StartedAt: 2025-10-30 11:02:38 -0400 (Thu, 30 Oct 2025) EndedAt: 2025-10-30 11:03:09 -0400 (Thu, 30 Oct 2025) EllapsedTime: 30.8 seconds RetCode: 0 Status: OK