Package: celldex Version: 1.21.0 Command: /home/biocbuild/bbs-3.23-bioc/R/bin/R CMD check --install=check:celldex.install-out.txt --library=/home/biocbuild/bbs-3.23-bioc/R/site-library --timings celldex_1.21.0.tar.gz StartedAt: 2025-10-30 11:59:36 -0400 (Thu, 30 Oct 2025) EndedAt: 2025-10-30 12:04:53 -0400 (Thu, 30 Oct 2025) EllapsedTime: 317.3 seconds RetCode: 0 Status: OK CheckDir: celldex.Rcheck Warnings: 0