Package: celldex Version: 1.21.0 Command: /home/biocbuild/bbs-3.23-bioc/R/bin/R CMD build --keep-empty-dirs --no-resave-data celldex StartedAt: 2025-10-30 11:08:28 -0400 (Thu, 30 Oct 2025) EndedAt: 2025-10-30 11:09:19 -0400 (Thu, 30 Oct 2025) EllapsedTime: 50.6 seconds RetCode: 0 Status: OK PackageFile: celldex_1.21.0.tar.gz PackageFileSize: 402.6 KiB