Package: celarefData Version: 1.29.0 Command: /home/biocbuild/bbs-3.23-bioc/R/bin/R CMD INSTALL celarefData StartedAt: 2025-10-30 10:55:39 -0400 (Thu, 30 Oct 2025) EndedAt: 2025-10-30 10:55:41 -0400 (Thu, 30 Oct 2025) EllapsedTime: 1.7 seconds RetCode: 0 Status: OK