Package: celarefData Version: 1.29.0 Command: /home/biocbuild/bbs-3.23-bioc/R/bin/R CMD check --install=check:celarefData.install-out.txt --library=/home/biocbuild/bbs-3.23-bioc/R/site-library --timings celarefData_1.29.0.tar.gz StartedAt: 2025-10-30 11:59:27 -0400 (Thu, 30 Oct 2025) EndedAt: 2025-10-30 12:00:08 -0400 (Thu, 30 Oct 2025) EllapsedTime: 40.9 seconds RetCode: 0 Status: OK CheckDir: celarefData.Rcheck Warnings: 0