Package: celarefData Version: 1.29.0 Command: /home/biocbuild/bbs-3.23-bioc/R/bin/R CMD build --keep-empty-dirs --no-resave-data celarefData StartedAt: 2025-10-30 11:08:26 -0400 (Thu, 30 Oct 2025) EndedAt: 2025-10-30 11:08:57 -0400 (Thu, 30 Oct 2025) EllapsedTime: 31.4 seconds RetCode: 0 Status: OK PackageFile: celarefData_1.29.0.tar.gz PackageFileSize: 231.4 KiB