Package: cMap2data Version: 1.47.0 Command: /home/biocbuild/bbs-3.23-bioc/R/bin/R CMD build --keep-empty-dirs --no-resave-data cMap2data StartedAt: 2025-10-30 11:09:33 -0400 (Thu, 30 Oct 2025) EndedAt: 2025-10-30 11:09:48 -0400 (Thu, 30 Oct 2025) EllapsedTime: 15.0 seconds RetCode: 0 Status: OK PackageFile: cMap2data_1.47.0.tar.gz PackageFileSize: 27.94 MiB