Package: bugphyzz Version: 1.5.0 Command: /home/biocbuild/bbs-3.23-bioc/R/bin/R CMD check --install=check:bugphyzz.install-out.txt --library=/home/biocbuild/bbs-3.23-bioc/R/site-library --timings bugphyzz_1.5.0.tar.gz StartedAt: 2025-11-06 12:03:29 -0500 (Thu, 06 Nov 2025) EndedAt: 2025-11-06 12:11:27 -0500 (Thu, 06 Nov 2025) EllapsedTime: 477.7 seconds RetCode: 1 Status: ERROR CheckDir: bugphyzz.Rcheck Warnings: NA