Package: brgedata Version: 1.31.0 Command: /home/biocbuild/bbs-3.22-bioc/R/bin/R CMD check --install=check:brgedata.install-out.txt --library=/home/biocbuild/bbs-3.22-bioc/R/site-library --timings brgedata_1.31.0.tar.gz StartedAt: 2025-10-02 12:03:31 -0400 (Thu, 02 Oct 2025) EndedAt: 2025-10-02 12:07:58 -0400 (Thu, 02 Oct 2025) EllapsedTime: 266.3 seconds RetCode: 0 Status: WARNINGS CheckDir: brgedata.Rcheck Warnings: 2