Package: breastCancerVDX Version: 1.49.0 Command: /home/biocbuild/bbs-3.23-bioc/R/bin/R CMD check --install=check:breastCancerVDX.install-out.txt --library=/home/biocbuild/bbs-3.23-bioc/R/site-library --timings breastCancerVDX_1.49.0.tar.gz StartedAt: 2025-11-11 12:02:53 -0500 (Tue, 11 Nov 2025) EndedAt: 2025-11-11 12:04:12 -0500 (Tue, 11 Nov 2025) EllapsedTime: 78.2 seconds RetCode: 0 Status: WARNINGS CheckDir: breastCancerVDX.Rcheck Warnings: 1