Package: breastCancerVDX Version: 1.49.0 Command: /home/biocbuild/bbs-3.23-bioc/R/bin/R CMD build --keep-empty-dirs --no-resave-data breastCancerVDX StartedAt: 2025-11-06 11:08:40 -0500 (Thu, 06 Nov 2025) EndedAt: 2025-11-06 11:08:44 -0500 (Thu, 06 Nov 2025) EllapsedTime: 3.9 seconds RetCode: 0 Status: OK PackageFile: breastCancerVDX_1.49.0.tar.gz PackageFileSize: 39.52 MiB