Package: breastCancerUPP Version: 1.47.0 Command: /home/biocbuild/bbs-3.22-bioc/R/bin/R CMD check --install=check:breastCancerUPP.install-out.txt --library=/home/biocbuild/bbs-3.22-bioc/R/site-library --timings breastCancerUPP_1.47.0.tar.gz StartedAt: 2025-10-07 12:02:17 -0400 (Tue, 07 Oct 2025) EndedAt: 2025-10-07 12:04:39 -0400 (Tue, 07 Oct 2025) EllapsedTime: 142.2 seconds RetCode: 0 Status: WARNINGS CheckDir: breastCancerUPP.Rcheck Warnings: 1