Package: breastCancerTRANSBIG Version: 1.47.0 Command: /home/biocbuild/bbs-3.22-bioc/R/bin/R CMD check --install=check:breastCancerTRANSBIG.install-out.txt --library=/home/biocbuild/bbs-3.22-bioc/R/site-library --timings breastCancerTRANSBIG_1.47.0.tar.gz StartedAt: 2025-10-28 12:01:57 -0400 (Tue, 28 Oct 2025) EndedAt: 2025-10-28 12:02:48 -0400 (Tue, 28 Oct 2025) EllapsedTime: 51.3 seconds RetCode: 0 Status: WARNINGS CheckDir: breastCancerTRANSBIG.Rcheck Warnings: 1