Package: breastCancerTRANSBIG Version: 1.49.0 Command: /home/biocbuild/bbs-3.23-bioc/R/bin/R CMD build --keep-empty-dirs --no-resave-data breastCancerTRANSBIG StartedAt: 2025-10-30 11:08:09 -0400 (Thu, 30 Oct 2025) EndedAt: 2025-10-30 11:08:12 -0400 (Thu, 30 Oct 2025) EllapsedTime: 3.8 seconds RetCode: 0 Status: OK PackageFile: breastCancerTRANSBIG_1.49.0.tar.gz PackageFileSize: 34.48 MiB