Package: breastCancerMAINZ Version: 1.49.0 Command: /home/biocbuild/bbs-3.23-bioc/R/bin/R CMD INSTALL breastCancerMAINZ StartedAt: 2025-10-30 10:55:45 -0400 (Thu, 30 Oct 2025) EndedAt: 2025-10-30 10:55:48 -0400 (Thu, 30 Oct 2025) EllapsedTime: 2.8 seconds RetCode: 0 Status: OK