Package: breastCancerMAINZ Version: 1.49.0 Command: /home/biocbuild/bbs-3.23-bioc/R/bin/R CMD build --keep-empty-dirs --no-resave-data breastCancerMAINZ StartedAt: 2025-10-30 11:08:01 -0400 (Thu, 30 Oct 2025) EndedAt: 2025-10-30 11:08:05 -0400 (Thu, 30 Oct 2025) EllapsedTime: 4.0 seconds RetCode: 0 Status: OK PackageFile: breastCancerMAINZ_1.49.0.tar.gz PackageFileSize: 34.8 MiB