Package: breakpointRdata Version: 1.29.0 Command: /home/biocbuild/bbs-3.23-bioc/R/bin/R CMD INSTALL breakpointRdata StartedAt: 2025-11-20 10:55:56 -0500 (Thu, 20 Nov 2025) EndedAt: 2025-11-20 10:55:59 -0500 (Thu, 20 Nov 2025) EllapsedTime: 2.4 seconds RetCode: 0 Status: OK