Package: blimaTestingData Version: 1.31.0 Command: /home/biocbuild/bbs-3.23-bioc/R/bin/R CMD check --install=check:blimaTestingData.install-out.txt --library=/home/biocbuild/bbs-3.23-bioc/R/site-library --timings blimaTestingData_1.31.0.tar.gz StartedAt: 2025-10-30 11:57:48 -0400 (Thu, 30 Oct 2025) EndedAt: 2025-10-30 11:57:57 -0400 (Thu, 30 Oct 2025) EllapsedTime: 9.6 seconds RetCode: 1 Status: ERROR CheckDir: blimaTestingData.Rcheck Warnings: NA