Package: bladderbatch Version: 1.49.0 Command: /home/biocbuild/bbs-3.23-bioc/R/bin/R CMD build --keep-empty-dirs --no-resave-data bladderbatch StartedAt: 2025-10-30 11:07:45 -0400 (Thu, 30 Oct 2025) EndedAt: 2025-10-30 11:07:52 -0400 (Thu, 30 Oct 2025) EllapsedTime: 6.3 seconds RetCode: 0 Status: OK PackageFile: bladderbatch_1.49.0.tar.gz PackageFileSize: 9.197 MiB