Package: biotmleData Version: 1.35.0 Command: /home/biocbuild/bbs-3.23-bioc/R/bin/R CMD check --install=check:biotmleData.install-out.txt --library=/home/biocbuild/bbs-3.23-bioc/R/site-library --timings biotmleData_1.35.0.tar.gz StartedAt: 2025-11-13 12:02:57 -0500 (Thu, 13 Nov 2025) EndedAt: 2025-11-13 12:04:03 -0500 (Thu, 13 Nov 2025) EllapsedTime: 65.8 seconds RetCode: 0 Status: WARNINGS CheckDir: biotmleData.Rcheck Warnings: 2