Package: bcellViper Version: 1.47.0 Command: /home/biocbuild/bbs-3.23-bioc/R/bin/R CMD build --keep-empty-dirs --no-resave-data bcellViper StartedAt: 2025-10-30 11:07:23 -0400 (Thu, 30 Oct 2025) EndedAt: 2025-10-30 11:07:29 -0400 (Thu, 30 Oct 2025) EllapsedTime: 6.8 seconds RetCode: 0 Status: OK PackageFile: bcellViper_1.47.0.tar.gz PackageFileSize: 11.34 MiB