Package: airway Version: 1.31.0 Command: /home/biocbuild/bbs-3.23-bioc/R/bin/R CMD check --install=check:airway.install-out.txt --library=/home/biocbuild/bbs-3.23-bioc/R/site-library --timings airway_1.31.0.tar.gz StartedAt: 2025-11-25 12:01:12 -0500 (Tue, 25 Nov 2025) EndedAt: 2025-11-25 12:02:29 -0500 (Tue, 25 Nov 2025) EllapsedTime: 76.5 seconds RetCode: 0 Status: WARNINGS CheckDir: airway.Rcheck Warnings: 1