Package: airway Version: 1.31.0 Command: /home/biocbuild/bbs-3.23-bioc/R/bin/R CMD build --keep-empty-dirs --no-resave-data airway StartedAt: 2025-11-20 11:07:32 -0500 (Thu, 20 Nov 2025) EndedAt: 2025-11-20 11:08:05 -0500 (Thu, 20 Nov 2025) EllapsedTime: 33.0 seconds RetCode: 0 Status: OK PackageFile: airway_1.31.0.tar.gz PackageFileSize: 23.61 MiB