Package: XhybCasneuf Version: 1.49.0 Command: /home/biocbuild/bbs-3.23-bioc/R/bin/R CMD INSTALL XhybCasneuf StartedAt: 2025-10-30 11:07:02 -0400 (Thu, 30 Oct 2025) EndedAt: 2025-10-30 11:07:02 -0400 (Thu, 30 Oct 2025) EllapsedTime: 0.2 seconds RetCode: 1 Status: ERROR