Package: WeberDivechaLCdata Version: 1.13.0 Command: /home/biocbuild/bbs-3.23-bioc/R/bin/R CMD INSTALL WeberDivechaLCdata StartedAt: 2025-10-30 10:58:25 -0400 (Thu, 30 Oct 2025) EndedAt: 2025-10-30 10:58:55 -0400 (Thu, 30 Oct 2025) EllapsedTime: 30.0 seconds RetCode: 0 Status: OK