Package: WeberDivechaLCdata Version: 1.13.0 Command: /home/biocbuild/bbs-3.23-bioc/R/bin/R CMD check --install=check:WeberDivechaLCdata.install-out.txt --library=/home/biocbuild/bbs-3.23-bioc/R/site-library --timings WeberDivechaLCdata_1.13.0.tar.gz StartedAt: 2025-10-30 12:57:17 -0400 (Thu, 30 Oct 2025) EndedAt: 2025-10-30 13:02:12 -0400 (Thu, 30 Oct 2025) EllapsedTime: 295.8 seconds RetCode: 0 Status: OK CheckDir: WeberDivechaLCdata.Rcheck Warnings: 0