Package: WeberDivechaLCdata Version: 1.13.0 Command: /home/biocbuild/bbs-3.23-bioc/R/bin/R CMD build --keep-empty-dirs --no-resave-data WeberDivechaLCdata StartedAt: 2025-10-30 11:43:59 -0400 (Thu, 30 Oct 2025) EndedAt: 2025-10-30 11:45:44 -0400 (Thu, 30 Oct 2025) EllapsedTime: 104.7 seconds RetCode: 0 Status: OK PackageFile: WeberDivechaLCdata_1.13.0.tar.gz PackageFileSize: 223.6 KiB