Package: WGSmapp Version: 1.23.0 Command: /home/biocbuild/bbs-3.23-bioc/R/bin/R CMD INSTALL WGSmapp StartedAt: 2025-10-30 10:58:02 -0400 (Thu, 30 Oct 2025) EndedAt: 2025-10-30 10:58:46 -0400 (Thu, 30 Oct 2025) EllapsedTime: 44.2 seconds RetCode: 0 Status: OK