Package: WGSmapp Version: 1.23.0 Command: /home/biocbuild/bbs-3.23-bioc/R/bin/R CMD check --install=check:WGSmapp.install-out.txt --library=/home/biocbuild/bbs-3.23-bioc/R/site-library --timings WGSmapp_1.23.0.tar.gz StartedAt: 2025-10-30 12:57:48 -0400 (Thu, 30 Oct 2025) EndedAt: 2025-10-30 12:59:10 -0400 (Thu, 30 Oct 2025) EllapsedTime: 81.6 seconds RetCode: 0 Status: WARNINGS CheckDir: WGSmapp.Rcheck Warnings: 1