Package: WGSmapp Version: 1.23.0 Command: /home/biocbuild/bbs-3.23-bioc/R/bin/R CMD build --keep-empty-dirs --no-resave-data WGSmapp StartedAt: 2025-10-30 11:44:05 -0400 (Thu, 30 Oct 2025) EndedAt: 2025-10-30 11:44:23 -0400 (Thu, 30 Oct 2025) EllapsedTime: 18.7 seconds RetCode: 0 Status: OK PackageFile: WGSmapp_1.23.0.tar.gz PackageFileSize: 195.7 MiB