Package: VectraPolarisData Version: 1.15.0 Command: /home/biocbuild/bbs-3.23-bioc/R/bin/R CMD INSTALL VectraPolarisData StartedAt: 2025-10-30 11:00:26 -0400 (Thu, 30 Oct 2025) EndedAt: 2025-10-30 11:00:56 -0400 (Thu, 30 Oct 2025) EllapsedTime: 29.8 seconds RetCode: 0 Status: OK