Package: VectraPolarisData Version: 1.15.0 Command: /home/biocbuild/bbs-3.23-bioc/R/bin/R CMD check --install=check:VectraPolarisData.install-out.txt --library=/home/biocbuild/bbs-3.23-bioc/R/site-library --timings VectraPolarisData_1.15.0.tar.gz StartedAt: 2025-10-30 12:56:37 -0400 (Thu, 30 Oct 2025) EndedAt: 2025-10-30 13:01:22 -0400 (Thu, 30 Oct 2025) EllapsedTime: 285.4 seconds RetCode: 0 Status: OK CheckDir: VectraPolarisData.Rcheck Warnings: 0